BEGIN:VCALENDAR
VERSION:2.0
PRODID:-//Homepage der Bürgergarde Friedrichshafen - ECPv6.15.13//NONSGML v1.0//EN
CALSCALE:GREGORIAN
METHOD:PUBLISH
X-ORIGINAL-URL:https://buergergarde.vpvfn.de
X-WR-CALDESC:Veranstaltungen für Homepage der Bürgergarde Friedrichshafen
REFRESH-INTERVAL;VALUE=DURATION:PT1H
X-Robots-Tag:noindex
X-PUBLISHED-TTL:PT1H
BEGIN:VTIMEZONE
TZID:Europe/Berlin
BEGIN:DAYLIGHT
TZOFFSETFROM:+0100
TZOFFSETTO:+0200
TZNAME:CEST
DTSTART:20180325T010000
END:DAYLIGHT
BEGIN:STANDARD
TZOFFSETFROM:+0200
TZOFFSETTO:+0100
TZNAME:CET
DTSTART:20181028T010000
END:STANDARD
BEGIN:DAYLIGHT
TZOFFSETFROM:+0100
TZOFFSETTO:+0200
TZNAME:CEST
DTSTART:20190331T010000
END:DAYLIGHT
BEGIN:STANDARD
TZOFFSETFROM:+0200
TZOFFSETTO:+0100
TZNAME:CET
DTSTART:20191027T010000
END:STANDARD
BEGIN:DAYLIGHT
TZOFFSETFROM:+0100
TZOFFSETTO:+0200
TZNAME:CEST
DTSTART:20200329T010000
END:DAYLIGHT
BEGIN:STANDARD
TZOFFSETFROM:+0200
TZOFFSETTO:+0100
TZNAME:CET
DTSTART:20201025T010000
END:STANDARD
BEGIN:DAYLIGHT
TZOFFSETFROM:+0100
TZOFFSETTO:+0200
TZNAME:CEST
DTSTART:20210328T010000
END:DAYLIGHT
BEGIN:STANDARD
TZOFFSETFROM:+0200
TZOFFSETTO:+0100
TZNAME:CET
DTSTART:20211031T010000
END:STANDARD
BEGIN:DAYLIGHT
TZOFFSETFROM:+0100
TZOFFSETTO:+0200
TZNAME:CEST
DTSTART:20220327T010000
END:DAYLIGHT
BEGIN:STANDARD
TZOFFSETFROM:+0200
TZOFFSETTO:+0100
TZNAME:CET
DTSTART:20221030T010000
END:STANDARD
BEGIN:DAYLIGHT
TZOFFSETFROM:+0100
TZOFFSETTO:+0200
TZNAME:CEST
DTSTART:20230326T010000
END:DAYLIGHT
BEGIN:STANDARD
TZOFFSETFROM:+0200
TZOFFSETTO:+0100
TZNAME:CET
DTSTART:20231029T010000
END:STANDARD
BEGIN:DAYLIGHT
TZOFFSETFROM:+0100
TZOFFSETTO:+0200
TZNAME:CEST
DTSTART:20240331T010000
END:DAYLIGHT
BEGIN:STANDARD
TZOFFSETFROM:+0200
TZOFFSETTO:+0100
TZNAME:CET
DTSTART:20241027T010000
END:STANDARD
BEGIN:DAYLIGHT
TZOFFSETFROM:+0100
TZOFFSETTO:+0200
TZNAME:CEST
DTSTART:20250330T010000
END:DAYLIGHT
BEGIN:STANDARD
TZOFFSETFROM:+0200
TZOFFSETTO:+0100
TZNAME:CET
DTSTART:20251026T010000
END:STANDARD
BEGIN:DAYLIGHT
TZOFFSETFROM:+0100
TZOFFSETTO:+0200
TZNAME:CEST
DTSTART:20260329T010000
END:DAYLIGHT
BEGIN:STANDARD
TZOFFSETFROM:+0200
TZOFFSETTO:+0100
TZNAME:CET
DTSTART:20261025T010000
END:STANDARD
BEGIN:DAYLIGHT
TZOFFSETFROM:+0100
TZOFFSETTO:+0200
TZNAME:CEST
DTSTART:20270328T010000
END:DAYLIGHT
BEGIN:STANDARD
TZOFFSETFROM:+0200
TZOFFSETTO:+0100
TZNAME:CET
DTSTART:20271031T010000
END:STANDARD
END:VTIMEZONE
BEGIN:VEVENT
DTSTART;TZID=Europe/Berlin:20260118T180000
DTEND;TZID=Europe/Berlin:20260118T180000
DTSTAMP:20260421T171741
CREATED:20251104T183658Z
LAST-MODIFIED:20251104T183925Z
UID:408-1768759200-1768759200@buergergarde.vpvfn.de
SUMMARY:Neujahrs Empfang
DESCRIPTION:Neujahrs Empfang Spalierstehen
URL:https://buergergarde.vpvfn.de/event/neujahrs-empfang/
LOCATION:Graf-Zeppelin-Haus\, Olgastr. 20\, Friedrichshafen\, 88045\, Germany
END:VEVENT
BEGIN:VEVENT
DTSTART;TZID=Europe/Berlin:20250227T133000
DTEND;TZID=Europe/Berlin:20250227T143000
DTSTAMP:20260421T171741
CREATED:20250202T133333Z
LAST-MODIFIED:20250202T133333Z
UID:386-1740663000-1740666600@buergergarde.vpvfn.de
SUMMARY:Kanonensalut am Gumpigen Donnerstag zum Rathaussturm in Friedrichshafen
DESCRIPTION:
URL:https://buergergarde.vpvfn.de/event/kanonensalut-am-gumpigen-donnerstag-zum-rathaussturm-in-friedrichshafen-3/
ATTACH;FMTTYPE=image/jpeg:https://buergergarde.vpvfn.de/wp-content/uploads/sites/6/2024/12/1000-13-scaled.jpg
END:VEVENT
BEGIN:VEVENT
DTSTART;TZID=Europe/Berlin:20240622T090000
DTEND;TZID=Europe/Berlin:20240622T180000
DTSTAMP:20260421T171741
CREATED:20240506T074031Z
LAST-MODIFIED:20240520T104614Z
UID:288-1719046800-1719079200@buergergarde.vpvfn.de
SUMMARY:Tag der Bürgergarde Friedrichshafen am 22.06.2024
DESCRIPTION:Bürgergarde Friedrichshafen\nProgramm:\n09.20 Uhr Aufstellung der Fahnenabordnungen/Gäste zum Gottesdienst in der Schlosskirche-\nFriedrichshafen im Bereich Schloßstraße/Klosterstraße.\n09.30 Uhr Gemeinsamer Eintritt der Abordnungen/Gäste zum Gottesdienst in die Schlosskirche.\n10.15 Uhr Aufstellung in der Klosterstraße und Abmarsch der Abordnungen/Gäste mit dem\nMusikverein Jettenhausen zum Graf-Zeppelin-Haus.\n10.30 Uhr Empfang der Stadt Friedrichshafen im Theodor-Kober-Saal des Graf-Zeppelin-Hauses mit Ansprachen\, Beförderungen und Auszeichnungen.\n12.45 Uhr Aufstellung vor dem Graf-Zeppelin-Haus (Kompl. Musikzüge/Abordnungen/Gäste) und\nUmzug zur Wiese am Graf-Zeppelin-Denkmal.\n13.00 Uhr Präsentation der Garden und Wehren sowie der Musikzüge am Graf-Zeppelin-Denkmal mit Ansprachen\, Auszeichnungen und Ehrensalut. 14.00 Uhr Gemeinsames Mittagessen und gemütlicher Ausklang im Restaurant Lammgarten. \nParkmöglichkeiten sind in der Tiefgarage vom Graf-Zeppelin-Haus vorhanden.
URL:https://buergergarde.vpvfn.de/event/tag-der-buergergarde-friedrichshafen/
END:VEVENT
BEGIN:VEVENT
DTSTART;TZID=Europe/Berlin:20230216T130000
DTEND;TZID=Europe/Berlin:20230216T143000
DTSTAMP:20260421T171741
CREATED:20230202T081519Z
LAST-MODIFIED:20230210T150212Z
UID:207-1676552400-1676557800@buergergarde.vpvfn.de
SUMMARY:Kanonensalut am Gumpigen Donnerstag zum Rathaussturm in Friedrichshafen
DESCRIPTION:Auf dem oberen Rathausplatz in Friedrichshafen.
URL:https://buergergarde.vpvfn.de/event/kanonensalut-am-gumpigen-donnerstag-zum-rathaussturm-in-friedrichshafen-2/
LOCATION:Friedrichshafen
END:VEVENT
BEGIN:VEVENT
DTSTART;TZID=Europe/Berlin:20220714T170000
DTEND;TZID=Europe/Berlin:20220718T000000
DTSTAMP:20260421T171741
CREATED:20220704T102241Z
LAST-MODIFIED:20220704T103923Z
UID:264-1657818000-1658102400@buergergarde.vpvfn.de
SUMMARY:72. Seehasenfest vom 14. Juli bis 18. Juli 2022 mit der Bürgergarde Friedrichshafen
DESCRIPTION:Bürgergarde Einsatzplan Seehasenfest 2022
URL:https://buergergarde.vpvfn.de/event/72-seehasenfest-vom-14-juli-bis-18-juli-2022-mit-der-buergergarde/
LOCATION:Friedrichshafen
END:VEVENT
BEGIN:VEVENT
DTSTART;TZID=Europe/Berlin:20200222T133000
DTEND;TZID=Europe/Berlin:20200222T133000
DTSTAMP:20260421T171741
CREATED:20200202T082859Z
LAST-MODIFIED:20200202T082859Z
UID:212-1582378200-1582378200@buergergarde.vpvfn.de
SUMMARY:Kanonensalut zum Start des Häfler Narrensprung in Friedrichshafen
DESCRIPTION:Narrensprung Beginn: 13:30 Uhr  \n 
URL:https://buergergarde.vpvfn.de/event/kanonensalut-zum-start-des-haefler-narrensprung-in-friedrichshafen/
LOCATION:Friedrichshafen
END:VEVENT
BEGIN:VEVENT
DTSTART;TZID=Europe/Berlin:20200208T140000
DTEND;TZID=Europe/Berlin:20200208T150000
DTSTAMP:20260421T171741
CREATED:20200202T075957Z
LAST-MODIFIED:20200202T075957Z
UID:203-1581170400-1581174000@buergergarde.vpvfn.de
SUMMARY:Kanonensalut zum Narrenbaumstellen in Jettenhausen am Kirchplatz
DESCRIPTION:Kanonensalut: 14.00 Uhr zum Start des Umzuges mit dem Narrenbaum zum Kirchplatz. \nKanonensalut: Bei Ankunft des Narrenbaum am Narrenbaum-Aufstellungsort. \nKanonensalut: Im Moment der fertigen Aufrichtung bzw. Aufstellung des Narrenbaumes.
URL:https://buergergarde.vpvfn.de/event/kanonensalut-zum-narrenbaumstellen-in-jettenhausen-am-kirchplatz/
END:VEVENT
BEGIN:VEVENT
DTSTART;TZID=Europe/Berlin:20190711T160000
DTEND;TZID=Europe/Berlin:20190715T190000
DTSTAMP:20260421T171741
CREATED:20190707T120340Z
LAST-MODIFIED:20190707T121251Z
UID:182-1562860800-1563217200@buergergarde.vpvfn.de
SUMMARY:Seehasenfest 2019   Bürgergarde FN Einsatzplan
DESCRIPTION:Einsatzplan der Bürgergarde FN am Seehasenfest 2019
URL:https://buergergarde.vpvfn.de/event/seehasenfest-2019-buergergarde-fn-einsatzplan/
END:VEVENT
BEGIN:VEVENT
DTSTART;TZID=Europe/Berlin:20190616T130000
DTEND;TZID=Europe/Berlin:20190616T180000
DTSTAMP:20260421T171741
CREATED:20190510T120430Z
LAST-MODIFIED:20190611T134305Z
UID:173-1560690000-1560708000@buergergarde.vpvfn.de
SUMMARY:Kutschfahrt der Bürgergarde Friedrichshafen für Senioren aus dem Seniorenzentrum Gustav-Werner-Stift in Friedrichshafen.
DESCRIPTION:Ablaufprogramm zur Seniorenkutschfahrt der Bürgergarde Friedrichshafen am 16.06.2019 für Senioren aus dem Seniorenzentrum Gustav-Werner-Stift\, Konstantin-Schmäh-Straße 30\, 88045 Friedrichshafen. Hauptorganisation durch Sigmund Ryrich. \n  \nUhr 13.00:    \nTreff der Bürgergarde am o.g. Seniorenzentrum. Hier weitere Informationen. \n  \nCa. Uhr 13.20 – 13.50:  \nAnkunft der Planwagen am o.g. Seniorenzentrum und zusteigen der Senioren. \n  \nUhr 14.00: \nAbfahrt der Planwagen mit Zwischenstopp an der Ailinger-Rotachhalle (Hintereingang)                        Verköstigung der Senioren mit Getränken durch die Bürgergarde. \n  \nCa. Uhr 15.30 – 16.00: \nAnkunft der Planwagen am Restaurant Lammgarten\, Friedrichshafen\, Uferstr. 27 mit Ansprachen und Verköstigung der Senioren. \n  \nCa. Uhr 17.00: \nRückkehr der Planwagen zum Seniorenzentrum Gustav-Werner-Stift in Friedrichshafen. \nBei Regenwetter oder schlechter Witterung entfällt die Kutschfahrt. \nÄnderungen Vorbehalten. \n  \n  \n  \n  \n  \n  \n  \n  \n 
URL:https://buergergarde.vpvfn.de/event/kutschfahrt-der-buergergarde-friedrichshafen-fuer-senioren-aus-dem-seniorenzentrum-gustav-wernerstift-in-friedrichshafen/
END:VEVENT
BEGIN:VEVENT
DTSTART;TZID=Europe/Berlin:20190601T150000
DTEND;TZID=Europe/Berlin:20190602T180000
DTSTAMP:20260421T171741
CREATED:20190510T113102Z
LAST-MODIFIED:20190510T113102Z
UID:168-1559401200-1559498400@buergergarde.vpvfn.de
SUMMARY:Landestreffen der Garden und Wehren 2019 in Schwäbisch Hall
DESCRIPTION:Programmablauf_Landestreffen 2019 \n 
URL:https://buergergarde.vpvfn.de/event/landestreffen-der-garden-und-wehren-2019-in-schwaebisch-hall/
END:VEVENT
BEGIN:VEVENT
DTSTART;TZID=Europe/Berlin:20190528T190000
DTEND;TZID=Europe/Berlin:20190528T223000
DTSTAMP:20260421T171741
CREATED:20190510T113816Z
LAST-MODIFIED:20190510T113816Z
UID:171-1559070000-1559082600@buergergarde.vpvfn.de
SUMMARY:Jahreshauptversammlung Verein zur Pflege des Volkstums
DESCRIPTION:Mit dem Jahresbericht des Kommandanten der Bürgergarde Friedrichshafen.
URL:https://buergergarde.vpvfn.de/event/jahreshauptversammlung-verein-zur-pflege-des-volkstums/
END:VEVENT
BEGIN:VEVENT
DTSTART;TZID=Europe/Berlin:20190506T190000
DTEND;TZID=Europe/Berlin:20190506T223000
DTSTAMP:20260421T171741
CREATED:20190119T121425Z
LAST-MODIFIED:20190119T122106Z
UID:160-1557169200-1557181800@buergergarde.vpvfn.de
SUMMARY:Jahreshauptversammlung der Bürgergarde Friedrichshafen
DESCRIPTION:Im Cafe Füssinger \nAm Anger 3 \n88046 Friedrichshafen \n  \nTagesordnungspunkte folgen mit der schriftlichen Einladung.
URL:https://buergergarde.vpvfn.de/event/jahreshauptversammlung-der-buergergarde-friedrichshafen/
END:VEVENT
BEGIN:VEVENT
DTSTART;TZID=Europe/Berlin:20190228T130000
DTEND;TZID=Europe/Berlin:20190228T143000
DTSTAMP:20260421T171741
CREATED:20190119T120446Z
LAST-MODIFIED:20190119T120446Z
UID:158-1551358800-1551364200@buergergarde.vpvfn.de
SUMMARY:Kanonensalut am Gumpigen Donnerstag zum Rathaussturm in Friedrichshafen
DESCRIPTION:Auf dem Rathausplatz in Friedrichshafen am Gumpigen Donnerstag.
URL:https://buergergarde.vpvfn.de/event/kanonensalut-am-gumpigen-donnerstag-zum-rathaussturm-in-friedrichshafen/
END:VEVENT
BEGIN:VEVENT
DTSTART;TZID=Europe/Berlin:20190201T173000
DTEND;TZID=Europe/Berlin:20190201T173000
DTSTAMP:20260421T171741
CREATED:20190118T163144Z
LAST-MODIFIED:20190118T163144Z
UID:154-1549042200-1549042200@buergergarde.vpvfn.de
SUMMARY:Kanonensalut zum Narrenbaumstellen auf dem Rathausplatz in Friedrichshafen
DESCRIPTION:Kanonensalut zum Narrenbaumstellen auf dem Rathausplatz in Friedrichshafen.
URL:https://buergergarde.vpvfn.de/event/kanonensalut-zum-narrenbaumstellen-auf-dem-rathausplatz-in-friedrichshafen/
END:VEVENT
BEGIN:VEVENT
DTSTART;TZID=Europe/Berlin:20190119T084500
DTEND;TZID=Europe/Berlin:20190119T120000
DTSTAMP:20260421T171741
CREATED:20190101T184445Z
LAST-MODIFIED:20190101T184445Z
UID:148-1547887500-1547899200@buergergarde.vpvfn.de
SUMMARY:Jahrtag der der Bürgerwache Mengen
DESCRIPTION:Einladung Jahrtag 2019_Abordnungen
URL:https://buergergarde.vpvfn.de/event/jahrtag-der-der-buergerwache-mengen/
LOCATION:Bürgerwachheim Mengen\, Mengen\, 88512\, Deutschland
END:VEVENT
BEGIN:VEVENT
DTSTART;TZID=Europe/Berlin:20190106T140000
DTEND;TZID=Europe/Berlin:20190106T160000
DTSTAMP:20260421T171741
CREATED:20190101T175521Z
LAST-MODIFIED:20190101T175521Z
UID:145-1546783200-1546790400@buergergarde.vpvfn.de
SUMMARY:17. Drei-Königs-Böllern des Schützenverein Brochenzell.
DESCRIPTION:Schießgelände-Brochenzell. \nArtilleriezug in Uniform.
URL:https://buergergarde.vpvfn.de/event/17-drei-koenigs-boellern-des-schuetzenverein-brochenzell/
END:VEVENT
END:VCALENDAR